BEGIN:VCALENDAR
VERSION:2.0
PRODID:-//Dark-Elektro-Devil Tanzfabrik Berlin - ECPv6.15.20//NONSGML v1.0//EN
CALSCALE:GREGORIAN
METHOD:PUBLISH
X-ORIGINAL-URL:https://dark-elektro-devil.de
X-WR-CALDESC:Veranstaltungen für Dark-Elektro-Devil Tanzfabrik Berlin
REFRESH-INTERVAL;VALUE=DURATION:PT1H
X-Robots-Tag:noindex
X-PUBLISHED-TTL:PT1H
BEGIN:VTIMEZONE
TZID:Europe/Berlin
BEGIN:DAYLIGHT
TZOFFSETFROM:+0100
TZOFFSETTO:+0200
TZNAME:CEST
DTSTART:20230326T010000
END:DAYLIGHT
BEGIN:STANDARD
TZOFFSETFROM:+0200
TZOFFSETTO:+0100
TZNAME:CET
DTSTART:20231029T010000
END:STANDARD
BEGIN:DAYLIGHT
TZOFFSETFROM:+0100
TZOFFSETTO:+0200
TZNAME:CEST
DTSTART:20240331T010000
END:DAYLIGHT
BEGIN:STANDARD
TZOFFSETFROM:+0200
TZOFFSETTO:+0100
TZNAME:CET
DTSTART:20241027T010000
END:STANDARD
BEGIN:DAYLIGHT
TZOFFSETFROM:+0100
TZOFFSETTO:+0200
TZNAME:CEST
DTSTART:20250330T010000
END:DAYLIGHT
BEGIN:STANDARD
TZOFFSETFROM:+0200
TZOFFSETTO:+0100
TZNAME:CET
DTSTART:20251026T010000
END:STANDARD
END:VTIMEZONE
BEGIN:VEVENT
DTSTART;TZID=Europe/Berlin:20240302T220000
DTEND;TZID=Europe/Berlin:20240302T220000
DTSTAMP:20260425T215757
CREATED:20240207T201357Z
LAST-MODIFIED:20240210T213134Z
UID:2424-1709416800-1709416800@dark-elektro-devil.de
SUMMARY:SOUNDS TO HELL  & HEAVEN 2.3.2024
DESCRIPTION:JETZT TICKET IM VORVERKAUF SICHERN.
URL:https://dark-elektro-devil.de/event/sounds-to-hell-haeven-2-3-2024-frueh/
LOCATION:Racing Club Karlshorst\, Treskowallee 159\, Berlin\, Berlin\, 10318\, Deutschland
CATEGORIES:DED Partys
ATTACH;FMTTYPE=image/jpeg:https://dark-elektro-devil.de/wp-content/uploads/2023/12/1702498805121.jpg
END:VEVENT
END:VCALENDAR