BEGIN:VCALENDAR
VERSION:2.0
PRODID:-//Dark-Elektro-Devil Tanzfabrik Berlin - ECPv6.15.20//NONSGML v1.0//EN
CALSCALE:GREGORIAN
METHOD:PUBLISH
X-ORIGINAL-URL:https://dark-elektro-devil.de
X-WR-CALDESC:Veranstaltungen für Dark-Elektro-Devil Tanzfabrik Berlin
REFRESH-INTERVAL;VALUE=DURATION:PT1H
X-Robots-Tag:noindex
X-PUBLISHED-TTL:PT1H
BEGIN:VTIMEZONE
TZID:Europe/Berlin
BEGIN:DAYLIGHT
TZOFFSETFROM:+0100
TZOFFSETTO:+0200
TZNAME:CEST
DTSTART:20230326T010000
END:DAYLIGHT
BEGIN:STANDARD
TZOFFSETFROM:+0200
TZOFFSETTO:+0100
TZNAME:CET
DTSTART:20231029T010000
END:STANDARD
BEGIN:DAYLIGHT
TZOFFSETFROM:+0100
TZOFFSETTO:+0200
TZNAME:CEST
DTSTART:20240331T010000
END:DAYLIGHT
BEGIN:STANDARD
TZOFFSETFROM:+0200
TZOFFSETTO:+0100
TZNAME:CET
DTSTART:20241027T010000
END:STANDARD
BEGIN:DAYLIGHT
TZOFFSETFROM:+0100
TZOFFSETTO:+0200
TZNAME:CEST
DTSTART:20250330T010000
END:DAYLIGHT
BEGIN:STANDARD
TZOFFSETFROM:+0200
TZOFFSETTO:+0100
TZNAME:CET
DTSTART:20251026T010000
END:STANDARD
END:VTIMEZONE
BEGIN:VEVENT
DTSTART;TZID=Europe/Berlin:20240713T220000
DTEND;TZID=Europe/Berlin:20240714T050000
DTSTAMP:20260425T160440
CREATED:20240325T125704Z
LAST-MODIFIED:20240702T212320Z
UID:2653-1720908000-1720933200@dark-elektro-devil.de
SUMMARY:THE DARK HEART - SINGLE PARTY 13.7.2024
DESCRIPTION:Erlebt einen unvergesslichen Abend bei der „THE DARK HEART SINGLE PARTY“\, präsentiert von DED Tanzfabrik!\nTaucht ein in die faszinierende Welt der Gothic Rock Klänge der 80er Jahre\, verschmolzen mit der unvergleichlichen\nPower des Mainstreams dieser legendären Dekade. \nUnsere einzigartige Location bietet euch nicht nur eine beeindruckende Tanzfläche\, sondern auch einen zauberhaften\nAußenbereich mit romantischem Flair\, direkt an der Spree gelegen. Genießt den atemberaubenden Blick auf das Wasser\,\nwährend ihr neue Leute kennenlernt und euch von der Musik treiben lasst. \nSeid dabei und lasst euch von der Magie der 80er Jahre verzaubern – wir freuen uns auf euch! \n  \nJETZT TICKET IM VORVERKAUF SICHERN.
URL:https://dark-elektro-devil.de/event/the-dark-heart-single-party-13-7-2024/
LOCATION:SSV Köpenick\, Bruno-Bürgel-Weg 99\, Berlin\, 12439\, Deutschland
CATEGORIES:DED Partys
ATTACH;FMTTYPE=image/png:https://dark-elektro-devil.de/wp-content/uploads/2024/03/The-Dark-Heart-Single-Party-Only-Gothic-and-Dark-Scene_20240605_094929_0000.png
END:VEVENT
END:VCALENDAR