BEGIN:VCALENDAR
VERSION:2.0
PRODID:-//Dark-Elektro-Devil Tanzfabrik Berlin - ECPv6.15.17.1//NONSGML v1.0//EN
CALSCALE:GREGORIAN
METHOD:PUBLISH
X-ORIGINAL-URL:https://dark-elektro-devil.de
X-WR-CALDESC:Veranstaltungen für Dark-Elektro-Devil Tanzfabrik Berlin
REFRESH-INTERVAL;VALUE=DURATION:PT1H
X-Robots-Tag:noindex
X-PUBLISHED-TTL:PT1H
BEGIN:VTIMEZONE
TZID:Europe/Berlin
BEGIN:DAYLIGHT
TZOFFSETFROM:+0100
TZOFFSETTO:+0200
TZNAME:CEST
DTSTART:20240331T010000
END:DAYLIGHT
BEGIN:STANDARD
TZOFFSETFROM:+0200
TZOFFSETTO:+0100
TZNAME:CET
DTSTART:20241027T010000
END:STANDARD
BEGIN:DAYLIGHT
TZOFFSETFROM:+0100
TZOFFSETTO:+0200
TZNAME:CEST
DTSTART:20250330T010000
END:DAYLIGHT
BEGIN:STANDARD
TZOFFSETFROM:+0200
TZOFFSETTO:+0100
TZNAME:CET
DTSTART:20251026T010000
END:STANDARD
BEGIN:DAYLIGHT
TZOFFSETFROM:+0100
TZOFFSETTO:+0200
TZNAME:CEST
DTSTART:20260329T010000
END:DAYLIGHT
BEGIN:STANDARD
TZOFFSETFROM:+0200
TZOFFSETTO:+0100
TZNAME:CET
DTSTART:20261025T010000
END:STANDARD
END:VTIMEZONE
BEGIN:VEVENT
DTSTART;TZID=Europe/Berlin:20250329T220000
DTEND;TZID=Europe/Berlin:20250330T050000
DTSTAMP:20260419T215054
CREATED:20241203T182535Z
LAST-MODIFIED:20250602T201413Z
UID:3492-1743285600-1743310800@dark-elektro-devil.de
SUMMARY:SOUNDS TO HELL
DESCRIPTION:DIE HÖLLE RUFT ZUM TANZ \nTaucht ein in die düsteren Klangwelten von EBM Harsh Electro und Industrial Sounds! \nFloor 1 Dark Elektro – Harsh – Industrial \nDJ KOCHI ( K17/Nuke/ Transition/ KVU Industrialz/ Dämonen Ball)\nDJ NUCLEAR PAIN (Transition) Hard Set\nDJ SX FROM PARIS (Fetish Re-volution Resident (Brussels)  – WGT 2024 Darkflower- WGT 2023 Fetish Party Katz Club -After Show And One (Petit Bain -Paris)- Schattenwelt Festival (Vienna) – Nuke club (Berlin) – After show Hocico (Paris) – Out Of Line Weekender (Berlin 2022)  – After Party (Tankbar – Leipzig 2022) – After Party Suicide Commando (Paris) – Zero Day Festival (London 2022) – Dark Dance Treffen (Mannheim 2022 2023) \nFloor 2 – EBM – AGGREPO \nDJ DED (DED TANZFABRIK)\nDJ ELEKTRO PULSE (TRANSITION/DED TANZFABRIK \nAbendkasse: 15 Euro \nKommt vorbei und erlebt eine unvergessliche Nacht. Wir freuen uns auf euch! \nMit Großer Außen-Terrasse
URL:https://dark-elektro-devil.de/event/sounds-to-hell/
LOCATION:Racing Club Karlshorst\, Treskowallee 159\, Berlin\, Berlin\, 10318\, Deutschland
CATEGORIES:DED TANZFABRIK PARTYS
ATTACH;FMTTYPE=image/jpeg:https://dark-elektro-devil.de/wp-content/uploads/2024/12/ded-soundstohell-20250329-16zu9.jpg
END:VEVENT
END:VCALENDAR