BEGIN:VCALENDAR
VERSION:2.0
PRODID:-//Dark-Elektro-Devil Tanzfabrik Berlin - ECPv6.15.17.1//NONSGML v1.0//EN
CALSCALE:GREGORIAN
METHOD:PUBLISH
X-ORIGINAL-URL:https://dark-elektro-devil.de
X-WR-CALDESC:Veranstaltungen für Dark-Elektro-Devil Tanzfabrik Berlin
REFRESH-INTERVAL;VALUE=DURATION:PT1H
X-Robots-Tag:noindex
X-PUBLISHED-TTL:PT1H
BEGIN:VTIMEZONE
TZID:Europe/Berlin
BEGIN:DAYLIGHT
TZOFFSETFROM:+0100
TZOFFSETTO:+0200
TZNAME:CEST
DTSTART:20240331T010000
END:DAYLIGHT
BEGIN:STANDARD
TZOFFSETFROM:+0200
TZOFFSETTO:+0100
TZNAME:CET
DTSTART:20241027T010000
END:STANDARD
BEGIN:DAYLIGHT
TZOFFSETFROM:+0100
TZOFFSETTO:+0200
TZNAME:CEST
DTSTART:20250330T010000
END:DAYLIGHT
BEGIN:STANDARD
TZOFFSETFROM:+0200
TZOFFSETTO:+0100
TZNAME:CET
DTSTART:20251026T010000
END:STANDARD
BEGIN:DAYLIGHT
TZOFFSETFROM:+0100
TZOFFSETTO:+0200
TZNAME:CEST
DTSTART:20260329T010000
END:DAYLIGHT
BEGIN:STANDARD
TZOFFSETFROM:+0200
TZOFFSETTO:+0100
TZNAME:CET
DTSTART:20261025T010000
END:STANDARD
END:VTIMEZONE
BEGIN:VEVENT
DTSTART;TZID=Europe/Berlin:20250531T220000
DTEND;TZID=Europe/Berlin:20250601T050000
DTSTAMP:20260419T180817
CREATED:20241203T183913Z
LAST-MODIFIED:20250508T144529Z
UID:3494-1748728800-1748754000@dark-elektro-devil.de
SUMMARY:⚙️"𝐈 𝐚𝐦 𝐄𝐁𝐌"⚙️
DESCRIPTION:„𝐈 𝐚𝐦 𝐄𝐁𝐌“\nDED Tanzfabrik präsentiert: Das Beste aus Electronic Body Music und eine Hommage an Synth & Future Pop ! \nFloor 1: „𝐈 𝐚𝐦 𝐄𝐁𝐌“ \nErlebt die volle Power der Electronic Body Music! Alte Klassiker treffen auf neue Perlen des Genres. Macht euch bereit für eine energiegeladene Tanznacht! \nDJ DED und DJ Jolly \nFloor 2:  „Die ultimative Synth & Future Pop Party“ \nDJ Resonanzfrequenz und DJ FrisCo \nTickets Abendkasse: limitierte Tickets \nSeid dabei und erlebt EBM & Synth & Future Pop auf 2 Floors
URL:https://dark-elektro-devil.de/event/i-am-ebm-2/
LOCATION:Racing Club Karlshorst\, Treskowallee 159\, Berlin\, Berlin\, 10318\, Deutschland
CATEGORIES:DED TANZFABRIK PARTYS
ATTACH;FMTTYPE=image/png:https://dark-elektro-devil.de/wp-content/uploads/2024/12/SOUNDS-TO-DARK-ELECTRO_20250116_162545_0000.png
END:VEVENT
END:VCALENDAR