BEGIN:VCALENDAR
VERSION:2.0
PRODID:-//Dark-Elektro-Devil Tanzfabrik Berlin - ECPv6.15.17.1//NONSGML v1.0//EN
CALSCALE:GREGORIAN
METHOD:PUBLISH
X-WR-CALNAME:Dark-Elektro-Devil Tanzfabrik Berlin
X-ORIGINAL-URL:https://dark-elektro-devil.de
X-WR-CALDESC:Veranstaltungen für Dark-Elektro-Devil Tanzfabrik Berlin
REFRESH-INTERVAL;VALUE=DURATION:PT1H
X-Robots-Tag:noindex
X-PUBLISHED-TTL:PT1H
BEGIN:VTIMEZONE
TZID:Europe/Berlin
BEGIN:DAYLIGHT
TZOFFSETFROM:+0100
TZOFFSETTO:+0200
TZNAME:CEST
DTSTART:20240331T010000
END:DAYLIGHT
BEGIN:STANDARD
TZOFFSETFROM:+0200
TZOFFSETTO:+0100
TZNAME:CET
DTSTART:20241027T010000
END:STANDARD
BEGIN:DAYLIGHT
TZOFFSETFROM:+0100
TZOFFSETTO:+0200
TZNAME:CEST
DTSTART:20250330T010000
END:DAYLIGHT
BEGIN:STANDARD
TZOFFSETFROM:+0200
TZOFFSETTO:+0100
TZNAME:CET
DTSTART:20251026T010000
END:STANDARD
BEGIN:DAYLIGHT
TZOFFSETFROM:+0100
TZOFFSETTO:+0200
TZNAME:CEST
DTSTART:20260329T010000
END:DAYLIGHT
BEGIN:STANDARD
TZOFFSETFROM:+0200
TZOFFSETTO:+0100
TZNAME:CET
DTSTART:20261025T010000
END:STANDARD
END:VTIMEZONE
BEGIN:VEVENT
DTSTART;TZID=Europe/Berlin:20250613T230000
DTEND;TZID=Europe/Berlin:20250614T050000
DTSTAMP:20260419T163428
CREATED:20250325T134953Z
LAST-MODIFIED:20250602T201146Z
UID:3875-1749855600-1749877200@dark-elektro-devil.de
SUMMARY:DARK EMBRACE - AFTERSHOW PARTY
DESCRIPTION:🔥 AFTERSHOW PARTY – DARK EMBRACE 🔥 \nNach dem Charity-Konzert von DARK EMBRACE ist noch lange nicht Schluss! Die Nacht geht weiter – oben im Racing Club erwartet dich die offizielle Aftershow Party\, bei der wir gemeinsam bis in die frühen Morgenstunden feiern. \n🎶 4 DJs – 2 Floors – 100 % Dark Sounds 🎶 \nDJ Jolly  \nDJ DED (Tanzfabrik) \nDJ Reaktor 4 (vom oberen Todpunkt) \nDJ Resonanzfrequenz (DED Tanzfabrik\, Disco Crash München\, Rock Club\, Nerodom – Der schwarze Club) \n📅 Wann?\nStart: 13.06.2025\, 23:00 Uhr\nEnde: 14.06.2025\, 05:00 Uhr \n📍 Wo?\nRacing Club Karlshorst Pferdesportpark \nMIT GROSSER AUSSEN-TERRASSE\nTreskowallee 159\n10318 Berlin \n🔊 Musikalische Reise durch die Dunkelheit:\n⚡ Synthie-Pop | Future-Pop | EBM | Dark Electro\n⚡ Industrial | Batcave | Gothrock | NDH \nSei dabei und feiere mit uns weiter! Let the darkness embrace you.
URL:https://dark-elektro-devil.de/event/dark-embrace-aftershow-party/
LOCATION:Pferdesportpark Karlshorst Treskowallee 159 10318 Berlin\, Treskowalle 159\, Berlin\, Berlin\, 10318\, Germany
ATTACH;FMTTYPE=image/jpeg:https://dark-elektro-devil.de/wp-content/uploads/2025/03/InShot_20250514_112927215-scaled.jpg
END:VEVENT
BEGIN:VEVENT
DTSTART;TZID=Europe/Berlin:20250614T210000
DTEND;TZID=Europe/Berlin:20250615T050000
DTSTAMP:20260419T163428
CREATED:20241203T180852Z
LAST-MODIFIED:20250611T191446Z
UID:3487-1749934800-1749963600@dark-elektro-devil.de
SUMMARY:𝟛 𝕁𝕒𝕙𝕣𝕖 𝔻𝔼𝔻 𝕋𝕒𝕟𝕫𝕗𝕒𝕓𝕣𝕚𝕜 "DIE SCHWARZE JUBILÄUMSSAUSE"
DESCRIPTION:3 JAHRE DED TANZFABRIK \nDIE SCHWARZE JUBILÄUMSSAUSE \nDie DED Tanzfabrik feiert: 3 Jahre Jubiläumssause! \n  \nAm 14. Juni 2025 öffnen wir die Tore zu einer unvergesslichen Nacht voller dunkler Klänge und energiegeladener Beats! 🎉 \n  \n📍 Location: Racing Club\, Treskowallee 159\, 10318 Berlin \nMIT GROSSER AUSSENTERRASSE \n⏰ Einlass: ab 21:00 Uhr \n  \n2 Floors – ALL STYLES OF DARK MUSIC \nDJs: \nDED (Tanzfabrik) \nDJ Jolly \nDJ Reaktor 4 \nDJ Schmolli \nDJ Resonanzfrequenz \n  \nVon treibenden Beats bis hin zu atmosphärischen Klängen – wir bieten euch die volle Bandbreite der dunklen Musikszene. Die DJs? Top-Acts\, die euch mit ihren Sets auf die Tanzfläche ziehen werden. Wer sie sind? Lasst euch überraschen! \n  \nDas erwartet euch: \n✨ Sektempfang zur Begrüßung \n🍴 Catering und Grillstation – alles inklusive im VVK-Preis (Ticketbezogen) \n💃 Eine Party\, die ihr so schnell nicht vergessen werdet \n  \nSichert euch eure Tickets im Vorverkauf! \n  \nDas wird die Mega-Party des Jahres – wir garantieren euch ein Event\, das den 3. Geburtstag der DED Tanzfabrik würdig feiert. \n  \n  \n  \nWir freuen uns auf euch! \nEuer Team der DED Tanzfabrik \n  \n 
URL:https://dark-elektro-devil.de/event/jubilaeumssause-3-jahre-ded-tanzfabrik/
CATEGORIES:DED Partys
ATTACH;FMTTYPE=image/png:https://dark-elektro-devil.de/wp-content/uploads/2025/04/ded-geburtstag.png
END:VEVENT
END:VCALENDAR