BEGIN:VCALENDAR
VERSION:2.0
PRODID:-//Dark-Elektro-Devil Tanzfabrik Berlin - ECPv6.15.17.1//NONSGML v1.0//EN
CALSCALE:GREGORIAN
METHOD:PUBLISH
X-WR-CALNAME:Dark-Elektro-Devil Tanzfabrik Berlin
X-ORIGINAL-URL:https://dark-elektro-devil.de
X-WR-CALDESC:Veranstaltungen für Dark-Elektro-Devil Tanzfabrik Berlin
REFRESH-INTERVAL;VALUE=DURATION:PT1H
X-Robots-Tag:noindex
X-PUBLISHED-TTL:PT1H
BEGIN:VTIMEZONE
TZID:Europe/Berlin
BEGIN:DAYLIGHT
TZOFFSETFROM:+0100
TZOFFSETTO:+0200
TZNAME:CEST
DTSTART:20230326T010000
END:DAYLIGHT
BEGIN:STANDARD
TZOFFSETFROM:+0200
TZOFFSETTO:+0100
TZNAME:CET
DTSTART:20231029T010000
END:STANDARD
BEGIN:DAYLIGHT
TZOFFSETFROM:+0100
TZOFFSETTO:+0200
TZNAME:CEST
DTSTART:20240331T010000
END:DAYLIGHT
BEGIN:STANDARD
TZOFFSETFROM:+0200
TZOFFSETTO:+0100
TZNAME:CET
DTSTART:20241027T010000
END:STANDARD
BEGIN:DAYLIGHT
TZOFFSETFROM:+0100
TZOFFSETTO:+0200
TZNAME:CEST
DTSTART:20250330T010000
END:DAYLIGHT
BEGIN:STANDARD
TZOFFSETFROM:+0200
TZOFFSETTO:+0100
TZNAME:CET
DTSTART:20251026T010000
END:STANDARD
END:VTIMEZONE
BEGIN:VEVENT
DTSTART;TZID=Europe/Berlin:20240921T220000
DTEND;TZID=Europe/Berlin:20240922T050000
DTSTAMP:20260423T131809
CREATED:20240407T141029Z
LAST-MODIFIED:20260302T181731Z
UID:2694-1726956000-1726981200@dark-elektro-devil.de
SUMMARY:SOUNDS TO HELL 21.09.2024
DESCRIPTION:  \n\n  \n 
URL:https://dark-elektro-devil.de/event/sounds-to-hell-21-09-2024/
LOCATION:SSV Köpenick\, Bruno-Bürgel-Weg 99\, Berlin\, 12439\, Deutschland
CATEGORIES:DED Partys
ATTACH;FMTTYPE=image/png:https://dark-elektro-devil.de/wp-content/uploads/2024/04/Sounds-to-Hell_20240613_114323_0000.png
END:VEVENT
END:VCALENDAR