BEGIN:VCALENDAR
VERSION:2.0
PRODID:-//Dark-Elektro-Devil Tanzfabrik Berlin - ECPv6.15.17.1//NONSGML v1.0//EN
CALSCALE:GREGORIAN
METHOD:PUBLISH
X-ORIGINAL-URL:https://dark-elektro-devil.de
X-WR-CALDESC:Veranstaltungen für Dark-Elektro-Devil Tanzfabrik Berlin
REFRESH-INTERVAL;VALUE=DURATION:PT1H
X-Robots-Tag:noindex
X-PUBLISHED-TTL:PT1H
BEGIN:VTIMEZONE
TZID:Europe/Berlin
BEGIN:DAYLIGHT
TZOFFSETFROM:+0100
TZOFFSETTO:+0200
TZNAME:CEST
DTSTART:20230326T010000
END:DAYLIGHT
BEGIN:STANDARD
TZOFFSETFROM:+0200
TZOFFSETTO:+0100
TZNAME:CET
DTSTART:20231029T010000
END:STANDARD
BEGIN:DAYLIGHT
TZOFFSETFROM:+0100
TZOFFSETTO:+0200
TZNAME:CEST
DTSTART:20240331T010000
END:DAYLIGHT
BEGIN:STANDARD
TZOFFSETFROM:+0200
TZOFFSETTO:+0100
TZNAME:CET
DTSTART:20241027T010000
END:STANDARD
BEGIN:DAYLIGHT
TZOFFSETFROM:+0100
TZOFFSETTO:+0200
TZNAME:CEST
DTSTART:20250330T010000
END:DAYLIGHT
BEGIN:STANDARD
TZOFFSETFROM:+0200
TZOFFSETTO:+0100
TZNAME:CET
DTSTART:20251026T010000
END:STANDARD
BEGIN:DAYLIGHT
TZOFFSETFROM:+0100
TZOFFSETTO:+0200
TZNAME:CEST
DTSTART:20260329T010000
END:DAYLIGHT
BEGIN:STANDARD
TZOFFSETFROM:+0200
TZOFFSETTO:+0100
TZNAME:CET
DTSTART:20261025T010000
END:STANDARD
END:VTIMEZONE
BEGIN:VEVENT
DTSTART;TZID=Europe/Berlin:20241214T220000
DTEND;TZID=Europe/Berlin:20241215T050000
DTSTAMP:20260421T152026
CREATED:20241120T155145Z
LAST-MODIFIED:20260302T183827Z
UID:3395-1734213600-1734238800@dark-elektro-devil.de
SUMMARY:I am EBM
DESCRIPTION:
URL:https://dark-elektro-devil.de/event/i-am-ebm/
LOCATION:Racing Club Karlshorst\, Treskowallee 159\, Berlin\, Berlin\, 10318\, Deutschland
ATTACH;FMTTYPE=image/png:https://dark-elektro-devil.de/wp-content/uploads/2024/11/2_20241120_163603_0000-e1732123113390.png
END:VEVENT
BEGIN:VEVENT
DTSTART;TZID=Europe/Berlin:20241231T210000
DTEND;TZID=Europe/Berlin:20250101T050000
DTSTAMP:20260421T152026
CREATED:20240412T215053Z
LAST-MODIFIED:20260302T184013Z
UID:2729-1735678800-1735707600@dark-elektro-devil.de
SUMMARY:The Dark End - Silvester 2024
DESCRIPTION:
URL:https://dark-elektro-devil.de/event/the-dark-end-silvester-2025/
LOCATION:Racing Club Karlshorst\, Treskowallee 159\, Berlin\, Berlin\, 10318\, Deutschland
CATEGORIES:DED Partys
ATTACH;FMTTYPE=image/png:https://dark-elektro-devil.de/wp-content/uploads/2024/04/dark-End_20240615_113231_0000.png
END:VEVENT
END:VCALENDAR