BEGIN:VCALENDAR
VERSION:2.0
PRODID:-//Dark-Elektro-Devil Tanzfabrik Berlin - ECPv6.15.17.1//NONSGML v1.0//EN
CALSCALE:GREGORIAN
METHOD:PUBLISH
X-ORIGINAL-URL:https://dark-elektro-devil.de
X-WR-CALDESC:Veranstaltungen für Dark-Elektro-Devil Tanzfabrik Berlin
REFRESH-INTERVAL;VALUE=DURATION:PT1H
X-Robots-Tag:noindex
X-PUBLISHED-TTL:PT1H
BEGIN:VTIMEZONE
TZID:Europe/Berlin
BEGIN:DAYLIGHT
TZOFFSETFROM:+0100
TZOFFSETTO:+0200
TZNAME:CEST
DTSTART:20240331T010000
END:DAYLIGHT
BEGIN:STANDARD
TZOFFSETFROM:+0200
TZOFFSETTO:+0100
TZNAME:CET
DTSTART:20241027T010000
END:STANDARD
BEGIN:DAYLIGHT
TZOFFSETFROM:+0100
TZOFFSETTO:+0200
TZNAME:CEST
DTSTART:20250330T010000
END:DAYLIGHT
BEGIN:STANDARD
TZOFFSETFROM:+0200
TZOFFSETTO:+0100
TZNAME:CET
DTSTART:20251026T010000
END:STANDARD
BEGIN:DAYLIGHT
TZOFFSETFROM:+0100
TZOFFSETTO:+0200
TZNAME:CEST
DTSTART:20260329T010000
END:DAYLIGHT
BEGIN:STANDARD
TZOFFSETFROM:+0200
TZOFFSETTO:+0100
TZNAME:CET
DTSTART:20261025T010000
END:STANDARD
END:VTIMEZONE
BEGIN:VEVENT
DTSTART;TZID=Europe/Berlin:20250131T220000
DTEND;TZID=Europe/Berlin:20250201T050000
DTSTAMP:20260421T121753
CREATED:20241203T183604Z
LAST-MODIFIED:20250115T141904Z
UID:3497-1738360800-1738386000@dark-elektro-devil.de
SUMMARY:☆TIME TRAVEL REVOLUTION☆ Die 80'ziger & 90'ziger Party ☆
DESCRIPTION:☆☆TIME TRAVEL REVOLUTION☆☆ \n  \nDED Tanzfabrik präsentiert:  \n☆Die Ultimative 80’ziger & 90’ziger Party☆ \nTaucht ein in eine Zeitreise durch die besten Jahrzehnte der Musikgeschichte – auf 2 einzigartigen Floors! \n🎶 Floor 1: Darkfloor – Gothic 80’s All Genre \nErlebt die dunkle Seite der 80er mit den besten Tracks dieser Epoche! \nDJ HOPE (bekannt aus Linientreu\, K17\, Nuke und Silverwings) sorgt für eine unvergessliche Atmosphäre. Unterstützt wird er von DJ DED\, der euch mit den schwarzen 80er ordentlich einheizen wird. \n🎉 Floor 2: Mainstream – Bunter geht’s nicht! \nVon Pop bis Rock\, von Punk bis Party – hier gibt es alles\, was die 80er und 90er zu bieten haben. Stillstehen? Unmöglich! \nFreut euch auf ein Überraschungs-Set vom DJ SPECIAL\, der noch bekannt gegeben wird. \n🎟️ Eintritt: \n*WICHTIG BITTE BEACHTEN !!! \nTICKETS im Vorverkauf: Nur 5 € (gültig von 22:00 bis 23:00 Uhr). \nWer später als 23:00 Uhr mit einem Vorverkaufsticket kommt\, zahlt 5 € nach. \nAbendkasse: 10 €  \nWICHTIG !!! *An der Abendkasse gibt es keine Ermäßigung !!! \nSeid dabei und erlebt eine Nacht voller Nostalgie\, Tanz und großartiger Musik! \nWann: \n31.01.2025  \nEINLASS 22 UHR \n  \nWo: \nDED Tanzfabrik \nRACING CLUB \nTRESKOWALLEE 159  \n10318 BERLIN \nWir freuen uns auf euch! \n  \nEuer Team der DED Tanzfabrik
URL:https://dark-elektro-devil.de/event/%e2%98%86time-travel-revolution%e2%98%86/
LOCATION:Racing Club Karlshorst\, Treskowallee 159\, Berlin\, Berlin\, 10318\, Deutschland
ATTACH;FMTTYPE=image/png:https://dark-elektro-devil.de/wp-content/uploads/2024/12/Date_20250114_222536_0000.png
END:VEVENT
BEGIN:VEVENT
DTSTART;TZID=Europe/Berlin:20250201T220000
DTEND;TZID=Europe/Berlin:20250202T050000
DTSTAMP:20260421T121753
CREATED:20241111T164943Z
LAST-MODIFIED:20250131T123835Z
UID:3349-1738447200-1738472400@dark-elektro-devil.de
SUMMARY:Des Teufel's Schwarze Nacht DED TANZFABRIK
DESCRIPTION:SICHERE DIR JETZT DEIN TICKET!! \n🔥😈 Des Teufels Schwarze Nacht 😈🔥 \nDer Teufel feiert seinen Geburtstag – und ihr seid alle eingeladen\, Teil der schwärzesten Nacht Berlins zu werden! Taucht ein in eine Nacht voller höllisch guter Musik und Tanz! Wir laden euch ein\, die Dunkelheit auf zwei Floors zu feiern. \n**Das Vater Unser der Schwarzen Szene\, geht in die zweite Runde** \nMichael Riehl\, Gründer und Herz der DED Tanzfabrik\, lebt und atmet für die Community. Mit Leidenschaft\, Hingabe und einem unermüdlichen Einsatz für den Zusammenhalt der Szene schafft er einen Ort\, an dem wir alle zu Hause sind. Ohne Konkurrenzdenken\, dafür mit Herzblut – so feiern wir die Nacht seines Ehrentages! \nDes Teufels Schwarze Nacht \nDatum: 2.1.2025 \nOrt: DED Tanzfabrik Racing Club Karlshorst \n🎶 2 Floors – 5 DJs – Alle Facetten der Dunkelheit 🎶 \n  \nFloor 1: All Styles of Dark Music  \nDark Electro & EBM \n  \nFloor 2: All Styles of Dark Rock & Rock \nDark Rock & Metal \nFeiert mit uns gemeinsam\, wir wollen die schwarzen Herzen höher schlagen lassen und diese Nacht zu einem unvergesslichen Erlebnis machen. \n🖤 Seid dabei und feiert mit uns den Zusammenhalt\, die Szene und den Mann\, der all das möglich macht. \nMarkiere deine Freunde\, die das nicht verpassen dürfen\, und teile diesen Post\, damit alle dabei sein können! \n  \nDED TANZFABRIK – Die Heimat der Schwarzen Szene mit Herzblut ! \nWo?!\n \nRACING CLUB\nTreskowallee 15910318 Berlin\nEinlass 22 Uhr\nEarly Bird 10€Abendkasse 13€\n  \n 
URL:https://dark-elektro-devil.de/event/des-teufels-schwarze-nacht-2/
LOCATION:Racing Club Karlshorst\, Treskowallee 159\, Berlin\, Berlin\, 10318\, Deutschland
CATEGORIES:DED Partys
ATTACH;FMTTYPE=image/jpeg:https://dark-elektro-devil.de/wp-content/uploads/2024/11/InShot_20250102_193606767-scaled.jpg
END:VEVENT
END:VCALENDAR